BEGIN:VCALENDAR
VERSION:2.0
PRODID:-//USS Kitty Hawk - ECPv6.15.20//NONSGML v1.0//EN
CALSCALE:GREGORIAN
METHOD:PUBLISH
X-WR-CALNAME:USS Kitty Hawk
X-ORIGINAL-URL:https://usskittyhawk.sfi.org
X-WR-CALDESC:Events for USS Kitty Hawk
REFRESH-INTERVAL;VALUE=DURATION:PT1H
X-Robots-Tag:noindex
X-PUBLISHED-TTL:PT1H
BEGIN:VTIMEZONE
TZID:America/New_York
BEGIN:DAYLIGHT
TZOFFSETFROM:-0500
TZOFFSETTO:-0400
TZNAME:EDT
DTSTART:20240310T070000
END:DAYLIGHT
BEGIN:STANDARD
TZOFFSETFROM:-0400
TZOFFSETTO:-0500
TZNAME:EST
DTSTART:20241103T060000
END:STANDARD
BEGIN:DAYLIGHT
TZOFFSETFROM:-0500
TZOFFSETTO:-0400
TZNAME:EDT
DTSTART:20250309T070000
END:DAYLIGHT
BEGIN:STANDARD
TZOFFSETFROM:-0400
TZOFFSETTO:-0500
TZNAME:EST
DTSTART:20251102T060000
END:STANDARD
BEGIN:DAYLIGHT
TZOFFSETFROM:-0500
TZOFFSETTO:-0400
TZNAME:EDT
DTSTART:20260308T070000
END:DAYLIGHT
BEGIN:STANDARD
TZOFFSETFROM:-0400
TZOFFSETTO:-0500
TZNAME:EST
DTSTART:20261101T060000
END:STANDARD
END:VTIMEZONE
BEGIN:VEVENT
DTSTART;TZID=America/New_York:20250426T093000
DTEND;TZID=America/New_York:20250426T113000
DTSTAMP:20260419T141440
CREATED:20250222T000307Z
LAST-MODIFIED:20250222T202427Z
UID:308-1745659800-1745667000@usskittyhawk.sfi.org
SUMMARY:Highway Clean-Up
DESCRIPTION:Participants must be 12 years old or older. Guardians must sign the Department of Transportation’s minor participant form.\n\nPlease RSVP to sfi.usskittyhawkevents@gmail.com\n\nDate: 2/2\nTime: 2:00 pm – 4:00 pm\nMeeting Place: Target; 8210 Renaissance Pkwy\, Durham\, NC 27713\n\n\nPlease wear clothes appropriate for the weather and closed-toed shoes.
URL:https://usskittyhawk.sfi.org/event/highway-clean-up/
LOCATION:Target (Renaissance Pkwy)\, 8210 Renaissance Pkwy\, Durham\, North Carolina\, 27713
CATEGORIES:Volunteer Opportunities
ATTACH;FMTTYPE=image/jpeg:https://usskittyhawk.sfi.org/storage/sites/43/2025/02/1.-AAH-Page-Photo.jpg
ORGANIZER;CN="Jenna":MAILTO:sfi.usskittyhawkevents@gmail.com
END:VEVENT
BEGIN:VEVENT
DTSTART;TZID=America/New_York:20250405T160000
DTEND;TZID=America/New_York:20250405T170000
DTSTAMP:20260419T141440
CREATED:20250222T001643Z
LAST-MODIFIED:20250308T162405Z
UID:315-1743868800-1743872400@usskittyhawk.sfi.org
SUMMARY:Kitty Hawk Meeting
DESCRIPTION:Join us for our monthly meeting to get important ship updates. Please RSVP at sfi.usskittyhawk@gmail.com if you wish to stay for dinner afterward!
URL:https://usskittyhawk.sfi.org/event/kitty-hawk-meeting/
LOCATION:Texas Steakhouse & Saloon\, 948 Airport Blvd\, Morrisville\, North Carolina\, 27560
CATEGORIES:Meetings
ATTACH;FMTTYPE=image/png:https://usskittyhawk.sfi.org/storage/sites/43/2025/02/seal_kitty_hawk-2.png
END:VEVENT
BEGIN:VEVENT
DTSTART;TZID=America/New_York:20250405T091500
DTEND;TZID=America/New_York:20250405T120000
DTSTAMP:20260419T141440
CREATED:20250221T192204Z
LAST-MODIFIED:20250222T202848Z
UID:304-1743844500-1743854400@usskittyhawk.sfi.org
SUMMARY:Raleigh's Walk MS
DESCRIPTION:Join the USS Kitty Hawk as they participate in the 2025 Raleigh Walk MS event. We are going to be taking the 3-mile route. All routes are accessible and mobility devices are welcome! \nIf you are interested in walking\, please register using this link. \nIf you would like to donate\, please register using this link.
URL:https://usskittyhawk.sfi.org/event/raleighs-walk-ms/
LOCATION:Perimeter Park\, 3005 Carrington Mill Blvd.\, Morrisville\, North Carolina\, 27560
CATEGORIES:Volunteer Opportunities
ATTACH;FMTTYPE=image/png:https://usskittyhawk.sfi.org/storage/sites/43/2025/02/Walk-MS.png
END:VEVENT
BEGIN:VEVENT
DTSTART;TZID=America/New_York:20250308T140000
DTEND;TZID=America/New_York:20250308T180000
DTSTAMP:20260419T141440
CREATED:20250222T162229Z
LAST-MODIFIED:20250222T202931Z
UID:338-1741442400-1741456800@usskittyhawk.sfi.org
SUMMARY:Changing of Command (Kitty Hawk Members)
DESCRIPTION:We welcome Kitty Hawk members to join us in March for our special ship meeting and changing of command ceremony. Please check your emails for location information and how to RSVP.
URL:https://usskittyhawk.sfi.org/event/changing-of-command-kitty-hawk-members/
LOCATION:North Carolina
CATEGORIES:Meetings
ATTACH;FMTTYPE=image/png:https://usskittyhawk.sfi.org/storage/sites/43/2025/02/seal_kitty_hawk-2.png
END:VEVENT
END:VCALENDAR