BEGIN:VCALENDAR
VERSION:2.0
PRODID:-//USS Kitty Hawk - ECPv6.15.20//NONSGML v1.0//EN
CALSCALE:GREGORIAN
METHOD:PUBLISH
X-WR-CALNAME:USS Kitty Hawk
X-ORIGINAL-URL:https://usskittyhawk.sfi.org
X-WR-CALDESC:Events for USS Kitty Hawk
REFRESH-INTERVAL;VALUE=DURATION:PT1H
X-Robots-Tag:noindex
X-PUBLISHED-TTL:PT1H
BEGIN:VTIMEZONE
TZID:America/New_York
BEGIN:DAYLIGHT
TZOFFSETFROM:-0500
TZOFFSETTO:-0400
TZNAME:EDT
DTSTART:20240310T070000
END:DAYLIGHT
BEGIN:STANDARD
TZOFFSETFROM:-0400
TZOFFSETTO:-0500
TZNAME:EST
DTSTART:20241103T060000
END:STANDARD
BEGIN:DAYLIGHT
TZOFFSETFROM:-0500
TZOFFSETTO:-0400
TZNAME:EDT
DTSTART:20250309T070000
END:DAYLIGHT
BEGIN:STANDARD
TZOFFSETFROM:-0400
TZOFFSETTO:-0500
TZNAME:EST
DTSTART:20251102T060000
END:STANDARD
BEGIN:DAYLIGHT
TZOFFSETFROM:-0500
TZOFFSETTO:-0400
TZNAME:EDT
DTSTART:20260308T070000
END:DAYLIGHT
BEGIN:STANDARD
TZOFFSETFROM:-0400
TZOFFSETTO:-0500
TZNAME:EST
DTSTART:20261101T060000
END:STANDARD
END:VTIMEZONE
BEGIN:VEVENT
DTSTART;VALUE=DATE:20250724
DTEND;VALUE=DATE:20250728
DTSTAMP:20260420T084941
CREATED:20250222T003218Z
LAST-MODIFIED:20250222T201946Z
UID:320-1753315200-1753660799@usskittyhawk.sfi.org
SUMMARY:Galaxy Con
DESCRIPTION:Visit us at GalaxyCon Raleigh and be teleported into the amazing world of Star Trek. Meet Kitty Hawk members\, learn about STARFLEET\, and get out-of-this-world photos at our prop station! We hope to see you there.
URL:https://usskittyhawk.sfi.org/event/galaxy-con/
LOCATION:Raleigh Convention Center\, 500 S Salisbury St\, Raleigh\, North Carolina\, 27601
CATEGORIES:Conventions and Events
ATTACH;FMTTYPE=image/jpeg:https://usskittyhawk.sfi.org/storage/sites/43/2025/02/IMG_0611.jpeg
END:VEVENT
END:VCALENDAR